BEGIN:VCALENDAR
VERSION:2.0
PRODID:-//Sointu-Seitsikko - ECPv6.15.20//NONSGML v1.0//EN
CALSCALE:GREGORIAN
METHOD:PUBLISH
X-ORIGINAL-URL:https://sointuseitsikko.org
X-WR-CALDESC:Tapahtumat Sointu-Seitsikko
REFRESH-INTERVAL;VALUE=DURATION:PT1H
X-Robots-Tag:noindex
X-PUBLISHED-TTL:PT1H
BEGIN:VTIMEZONE
TZID:Europe/Helsinki
BEGIN:DAYLIGHT
TZOFFSETFROM:+0200
TZOFFSETTO:+0300
TZNAME:EEST
DTSTART:20240331T010000
END:DAYLIGHT
BEGIN:STANDARD
TZOFFSETFROM:+0300
TZOFFSETTO:+0200
TZNAME:EET
DTSTART:20241027T010000
END:STANDARD
BEGIN:DAYLIGHT
TZOFFSETFROM:+0200
TZOFFSETTO:+0300
TZNAME:EEST
DTSTART:20250330T010000
END:DAYLIGHT
BEGIN:STANDARD
TZOFFSETFROM:+0300
TZOFFSETTO:+0200
TZNAME:EET
DTSTART:20251026T010000
END:STANDARD
BEGIN:DAYLIGHT
TZOFFSETFROM:+0200
TZOFFSETTO:+0300
TZNAME:EEST
DTSTART:20260329T010000
END:DAYLIGHT
BEGIN:STANDARD
TZOFFSETFROM:+0300
TZOFFSETTO:+0200
TZNAME:EET
DTSTART:20261025T010000
END:STANDARD
BEGIN:DAYLIGHT
TZOFFSETFROM:+0200
TZOFFSETTO:+0300
TZNAME:EEST
DTSTART:20270328T010000
END:DAYLIGHT
BEGIN:STANDARD
TZOFFSETFROM:+0300
TZOFFSETTO:+0200
TZNAME:EET
DTSTART:20271031T010000
END:STANDARD
END:VTIMEZONE
BEGIN:VEVENT
DTSTART;TZID=Europe/Helsinki:20251022T190000
DTEND;TZID=Europe/Helsinki:20251022T200000
DTSTAMP:20260423T010906
CREATED:20250203T163957Z
LAST-MODIFIED:20250801T175931Z
UID:152-1761159600-1761163200@sointuseitsikko.org
SUMMARY:Sibbe Live!
DESCRIPTION:Palaamme suomalaisen vaskiseitsikon kulta-aikaan\, jolloin joka pitäjän jukeboksina piti olla seitsikko. Musiikkia soitettiin\, sovitettiin ja sävellettiin laidasta laitaan. Sointu-Seitsikko esittää Sibbe Live! keskiviikko sarjassa vuosisatain varrelta tuota ydinmateriaalia kevyestä klassiseen. Tule kuuntelemaan maailmassa ainutlaatuista sointia\, jonka vain suomalainen vaskiseitsikko saa soimaan. \nPaikkana upea Sibelius-museo. Liput linkin takaa. \nhttps://sibeliusmuseum.fi/fi/tapahtumat/sibbe-live-sointu-seitsikko/
URL:https://sointuseitsikko.org/event/sibeliusta-lokakuussa/
LOCATION:Sibelius-museo\, Piispankatu 17\, Turku\, 20500\, Finland
END:VEVENT
BEGIN:VEVENT
DTSTART;TZID=Europe/Helsinki:20260113T180000
DTEND;TZID=Europe/Helsinki:20260113T200000
DTSTAMP:20260423T010906
CREATED:20251229T172312Z
LAST-MODIFIED:20251229T172312Z
UID:198-1768327200-1768334400@sointuseitsikko.org
SUMMARY:Nuutinpäivän konsertti
DESCRIPTION:Joulu on ohi ja uusi vuosi alkanut. Nuutinpäivänä\, tiistaina 13.1. klo 18.00\, Sointu-Seitsikko päräyttää vuoden käyntiin musiikillisella kattauksella Littoisten tunnelmallisessa puukirkossa. \nTapahtumaan on vapaa pääsy. \nTervetuloa.
URL:https://sointuseitsikko.org/event/nuutinpaivan-konsertti/
LOCATION:Littoisten kirkko\, Tammikallio E\, Littoinen\, 20660\, Finland
END:VEVENT
BEGIN:VEVENT
DTSTART;TZID=Europe/Helsinki:20260613T000000
DTEND;TZID=Europe/Helsinki:20260613T235959
DTSTAMP:20260423T010906
CREATED:20260209T053757Z
LAST-MODIFIED:20260209T053757Z
UID:206-1781308800-1781395199@sointuseitsikko.org
SUMMARY:Nauvon perunafestivaali 2026
DESCRIPTION:Sointu-Seitsikko on jälleen mukana Nauvon torin Etelä satamassa varhaisperunafestivaaleilla. \nTapahtumaa päivitetään lähempänä.
URL:https://sointuseitsikko.org/event/nauvon-perunafestivaali-2026/
LOCATION:Nauvon Kesätori Eteläsatama\, Torgstigen\, Nauvo\, 21660\, Suomi
END:VEVENT
END:VCALENDAR