BEGIN:VCALENDAR
VERSION:2.0
PRODID:-//Sointu-Seitsikko - ECPv6.15.20//NONSGML v1.0//EN
CALSCALE:GREGORIAN
METHOD:PUBLISH
X-WR-CALNAME:Sointu-Seitsikko
X-ORIGINAL-URL:https://sointuseitsikko.org
X-WR-CALDESC:Tapahtumat Sointu-Seitsikko
REFRESH-INTERVAL;VALUE=DURATION:PT1H
X-Robots-Tag:noindex
X-PUBLISHED-TTL:PT1H
BEGIN:VTIMEZONE
TZID:Europe/Helsinki
BEGIN:DAYLIGHT
TZOFFSETFROM:+0200
TZOFFSETTO:+0300
TZNAME:EEST
DTSTART:20240331T010000
END:DAYLIGHT
BEGIN:STANDARD
TZOFFSETFROM:+0300
TZOFFSETTO:+0200
TZNAME:EET
DTSTART:20241027T010000
END:STANDARD
BEGIN:DAYLIGHT
TZOFFSETFROM:+0200
TZOFFSETTO:+0300
TZNAME:EEST
DTSTART:20250330T010000
END:DAYLIGHT
BEGIN:STANDARD
TZOFFSETFROM:+0300
TZOFFSETTO:+0200
TZNAME:EET
DTSTART:20251026T010000
END:STANDARD
BEGIN:DAYLIGHT
TZOFFSETFROM:+0200
TZOFFSETTO:+0300
TZNAME:EEST
DTSTART:20260329T010000
END:DAYLIGHT
BEGIN:STANDARD
TZOFFSETFROM:+0300
TZOFFSETTO:+0200
TZNAME:EET
DTSTART:20261025T010000
END:STANDARD
END:VTIMEZONE
BEGIN:VEVENT
DTSTART;TZID=Europe/Helsinki:20250911T190000
DTEND;TZID=Europe/Helsinki:20250911T235900
DTSTAMP:20260422T160859
CREATED:20250203T163730Z
LAST-MODIFIED:20250801T181804Z
UID:150-1757617200-1757635140@sointuseitsikko.org
SUMMARY:Saaristo-oopperan iltamat
DESCRIPTION:Sointu-Seitsikolla on ilo ja kunnia olla mukana toteuttamassa Saaristo-oopperan järjestämiä Ohjelmallisia iltamia! \nTule kokemaan iltama perinteen renesanssia tunnelmallisessa Turun VPK talossa loistavien esiintyjien tähdittämänä. Mukana nähdään Waltteri Torikka\, Juha Hostikka\, Anu Hostikka\, Päivi Nisula\, Matti Salminen ja Miska Kaukonen. \nTutustu tapahtumaan tarkemmin Saaristo-ooperan sivuilta ja osta lippusi heti Lippu.fi
URL:https://sointuseitsikko.org/event/ohjelmallinen-ilta/
LOCATION:Turun VPK talo\, Eskelinkatu 5\, Turku\, 20100\, Finland
END:VEVENT
END:VCALENDAR