BEGIN:VCALENDAR
VERSION:2.0
PRODID:-//Sointu-Seitsikko - ECPv6.15.20//NONSGML v1.0//EN
CALSCALE:GREGORIAN
METHOD:PUBLISH
X-WR-CALNAME:Sointu-Seitsikko
X-ORIGINAL-URL:https://sointuseitsikko.org
X-WR-CALDESC:Tapahtumat Sointu-Seitsikko
REFRESH-INTERVAL;VALUE=DURATION:PT1H
X-Robots-Tag:noindex
X-PUBLISHED-TTL:PT1H
BEGIN:VTIMEZONE
TZID:Europe/Helsinki
BEGIN:DAYLIGHT
TZOFFSETFROM:+0200
TZOFFSETTO:+0300
TZNAME:EEST
DTSTART:20240331T010000
END:DAYLIGHT
BEGIN:STANDARD
TZOFFSETFROM:+0300
TZOFFSETTO:+0200
TZNAME:EET
DTSTART:20241027T010000
END:STANDARD
BEGIN:DAYLIGHT
TZOFFSETFROM:+0200
TZOFFSETTO:+0300
TZNAME:EEST
DTSTART:20250330T010000
END:DAYLIGHT
BEGIN:STANDARD
TZOFFSETFROM:+0300
TZOFFSETTO:+0200
TZNAME:EET
DTSTART:20251026T010000
END:STANDARD
BEGIN:DAYLIGHT
TZOFFSETFROM:+0200
TZOFFSETTO:+0300
TZNAME:EEST
DTSTART:20260329T010000
END:DAYLIGHT
BEGIN:STANDARD
TZOFFSETFROM:+0300
TZOFFSETTO:+0200
TZNAME:EET
DTSTART:20261025T010000
END:STANDARD
END:VTIMEZONE
BEGIN:VEVENT
DTSTART;TZID=Europe/Helsinki:20250814T180000
DTEND;TZID=Europe/Helsinki:20250814T183000
DTSTAMP:20260422T175406
CREATED:20250801T182425Z
LAST-MODIFIED:20250801T182818Z
UID:184-1755194400-1755196200@sointuseitsikko.org
SUMMARY:Turun Taiteiden Yö
DESCRIPTION:Sointu-Seitsikko virittää sinut Turun Taiteiden Yön tunnelmaan Turun historiallisessa jokirannassa. Mikä onkaan hienompaa kuin vaskien sointi kesäillassa tutuin sävelin. Tule ohikulkumatkalle tai viivy hetki musiikkimakupalojen äärellä.
URL:https://sointuseitsikko.org/event/turun-taiteiden-yo/
LOCATION:Porthaninpuisto\, Henrik Tempilin polku\, Turku\, 20500\, Finland
END:VEVENT
BEGIN:VEVENT
DTSTART;TZID=Europe/Helsinki:20250814T190000
DTEND;TZID=Europe/Helsinki:20250814T193000
DTSTAMP:20260422T175406
CREATED:20250801T182712Z
LAST-MODIFIED:20250801T182800Z
UID:186-1755198000-1755199800@sointuseitsikko.org
SUMMARY:Turun Taiteiden Yö
DESCRIPTION:Sointu-Seitsikko virittää sinut Turun Taiteiden Yön tunnelmaan Turun historiallisessa jokirannassa. Mikä onkaan hienompaa kuin vaskien sointi kesäillassa tutuin sävelin. Tule ohikulkumatkalle tai viivy hetki musiikkimakupalojen äärellä.
URL:https://sointuseitsikko.org/event/turun-taiteiden-yo-2/
LOCATION:Rettiginrinne\, Rettiginrinne 2\, Turku\, 20700\, Finland
END:VEVENT
END:VCALENDAR